BEGIN:VCALENDAR
VERSION:2.0
PRODID:-//Ocmulgee Regional Library System - ECPv6.15.20//NONSGML v1.0//EN
CALSCALE:GREGORIAN
METHOD:PUBLISH
X-ORIGINAL-URL:https://orls.org
X-WR-CALDESC:Events for Ocmulgee Regional Library System
REFRESH-INTERVAL;VALUE=DURATION:PT1H
X-Robots-Tag:noindex
X-PUBLISHED-TTL:PT1H
BEGIN:VTIMEZONE
TZID:America/New_York
BEGIN:DAYLIGHT
TZOFFSETFROM:-0500
TZOFFSETTO:-0400
TZNAME:EDT
DTSTART:20250309T070000
END:DAYLIGHT
BEGIN:STANDARD
TZOFFSETFROM:-0400
TZOFFSETTO:-0500
TZNAME:EST
DTSTART:20251102T060000
END:STANDARD
BEGIN:DAYLIGHT
TZOFFSETFROM:-0500
TZOFFSETTO:-0400
TZNAME:EDT
DTSTART:20260308T070000
END:DAYLIGHT
BEGIN:STANDARD
TZOFFSETFROM:-0400
TZOFFSETTO:-0500
TZNAME:EST
DTSTART:20261101T060000
END:STANDARD
BEGIN:DAYLIGHT
TZOFFSETFROM:-0500
TZOFFSETTO:-0400
TZNAME:EDT
DTSTART:20270314T070000
END:DAYLIGHT
BEGIN:STANDARD
TZOFFSETFROM:-0400
TZOFFSETTO:-0500
TZNAME:EST
DTSTART:20271107T060000
END:STANDARD
END:VTIMEZONE
BEGIN:VEVENT
DTSTART;TZID=America/New_York:20260428T153000
DTEND;TZID=America/New_York:20260428T173000
DTSTAMP:20260421T123512
CREATED:20260330T174852Z
LAST-MODIFIED:20260330T174852Z
UID:4636-1777390200-1777397400@orls.org
SUMMARY:(PUL) D&D Day: Character Creation
DESCRIPTION:
URL:https://orls.org/event/pul-dd-day-character-creation/
LOCATION:M. E. Roden Library\, 151 Commerce St\, Hawkinsville\, GA\, 31036\, United States
CATEGORIES:M. E. Roden Library-Pulaski
END:VEVENT
BEGIN:VEVENT
DTSTART;TZID=America/New_York:20260428T153000
DTEND;TZID=America/New_York:20260428T180000
DTSTAMP:20260421T123512
CREATED:20260330T173701Z
LAST-MODIFIED:20260330T173701Z
UID:4591-1777390200-1777399200@orls.org
SUMMARY:(TEL) K-12 Tutoring
DESCRIPTION:
URL:https://orls.org/event/tel-k-12-tutoring-6/
LOCATION:Telfair County Public Library\, 101 W College St\, McRae-Helena\, GA\, 31055\, United States
CATEGORIES:Telfair County Public Library
END:VEVENT
BEGIN:VEVENT
DTSTART;TZID=America/New_York:20260428T160000
DTEND;TZID=America/New_York:20260428T180000
DTSTAMP:20260421T123512
CREATED:20260330T174322Z
LAST-MODIFIED:20260330T174322Z
UID:4619-1777392000-1777399200@orls.org
SUMMARY:(WIL) Craft & Create
DESCRIPTION:
URL:https://orls.org/event/wil-craft-create/
LOCATION:Wilcox County Public Library\, 104 N Broad St\, Abbeville\, GA\, 31001\, United States
CATEGORIES:Wilcox County Public Library
END:VEVENT
BEGIN:VEVENT
DTSTART;TZID=America/New_York:20260428T170000
DTEND;TZID=America/New_York:20260428T190000
DTSTAMP:20260421T123512
CREATED:20260330T170406Z
LAST-MODIFIED:20260330T170406Z
UID:4537-1777395600-1777402800@orls.org
SUMMARY:(DOD) Hooked & Looped Knit Club
DESCRIPTION:
URL:https://orls.org/event/dod-hooked-looped-knit-club-5/
LOCATION:Dodge County Murrell Memorial Library\, 531 2nd Ave\, Eastman\, GA\, 31023\, United States
CATEGORIES:Dodge County Murrell Memorial Library
END:VEVENT
END:VCALENDAR