BEGIN:VCALENDAR
VERSION:2.0
PRODID:-//Ocmulgee Regional Library System - ECPv6.15.20//NONSGML v1.0//EN
CALSCALE:GREGORIAN
METHOD:PUBLISH
X-WR-CALNAME:Ocmulgee Regional Library System
X-ORIGINAL-URL:https://orls.org
X-WR-CALDESC:Events for Ocmulgee Regional Library System
REFRESH-INTERVAL;VALUE=DURATION:PT1H
X-Robots-Tag:noindex
X-PUBLISHED-TTL:PT1H
BEGIN:VTIMEZONE
TZID:America/New_York
BEGIN:DAYLIGHT
TZOFFSETFROM:-0500
TZOFFSETTO:-0400
TZNAME:EDT
DTSTART:20250309T070000
END:DAYLIGHT
BEGIN:STANDARD
TZOFFSETFROM:-0400
TZOFFSETTO:-0500
TZNAME:EST
DTSTART:20251102T060000
END:STANDARD
BEGIN:DAYLIGHT
TZOFFSETFROM:-0500
TZOFFSETTO:-0400
TZNAME:EDT
DTSTART:20260308T070000
END:DAYLIGHT
BEGIN:STANDARD
TZOFFSETFROM:-0400
TZOFFSETTO:-0500
TZNAME:EST
DTSTART:20261101T060000
END:STANDARD
BEGIN:DAYLIGHT
TZOFFSETFROM:-0500
TZOFFSETTO:-0400
TZNAME:EDT
DTSTART:20270314T070000
END:DAYLIGHT
BEGIN:STANDARD
TZOFFSETFROM:-0400
TZOFFSETTO:-0500
TZNAME:EST
DTSTART:20271107T060000
END:STANDARD
END:VTIMEZONE
BEGIN:VEVENT
DTSTART;VALUE=DATE:20260420
DTEND;VALUE=DATE:20260425
DTSTAMP:20260421T090855
CREATED:20260330T174705Z
LAST-MODIFIED:20260330T174742Z
UID:4631-1776643200-1777075199@orls.org
SUMMARY:(PUL) National Library Week
DESCRIPTION:Celebrate with us!\nApril 20 Monday-Friday 10am-5:30pm \nOpen House on Monday with fun\, free library swag and finger foods!
URL:https://orls.org/event/pul-national-library-week/
LOCATION:M. E. Roden Library\, 151 Commerce St\, Hawkinsville\, GA\, 31036\, United States
CATEGORIES:M. E. Roden Library-Pulaski
END:VEVENT
BEGIN:VEVENT
DTSTART;VALUE=DATE:20260424
DTEND;VALUE=DATE:20260425
DTSTAMP:20260421T090855
CREATED:20260330T172900Z
LAST-MODIFIED:20260330T172900Z
UID:4577-1776988800-1777075199@orls.org
SUMMARY:(DOD) Closed
DESCRIPTION:
URL:https://orls.org/event/dod-closed/
LOCATION:Dodge County Murrell Memorial Library\, 531 2nd Ave\, Eastman\, GA\, 31023\, United States
CATEGORIES:Dodge County Murrell Memorial Library
END:VEVENT
BEGIN:VEVENT
DTSTART;TZID=America/New_York:20260424T130000
DTEND;TZID=America/New_York:20260424T150000
DTSTAMP:20260421T090855
CREATED:20260330T164715Z
LAST-MODIFIED:20260330T164715Z
UID:4513-1777035600-1777042800@orls.org
SUMMARY:(DOD) Canasta & Mahjong
DESCRIPTION:
URL:https://orls.org/event/dod-canasta-mahjong-8/
LOCATION:Dodge County Murrell Memorial Library\, 531 2nd Ave\, Eastman\, GA\, 31023\, United States
CATEGORIES:Dodge County Murrell Memorial Library
END:VEVENT
BEGIN:VEVENT
DTSTART;TZID=America/New_York:20260424T170000
DTEND;TZID=America/New_York:20260424T200000
DTSTAMP:20260421T090855
CREATED:20260330T173941Z
LAST-MODIFIED:20260330T173941Z
UID:4603-1777050000-1777060800@orls.org
SUMMARY:(TEL) Teen Takeover
DESCRIPTION:
URL:https://orls.org/event/tel-teen-takeover-4/
LOCATION:Telfair County Public Library\, 101 W College St\, McRae-Helena\, GA\, 31055\, United States
CATEGORIES:Telfair County Public Library
END:VEVENT
END:VCALENDAR