BEGIN:VCALENDAR
VERSION:2.0
PRODID:-//Ocmulgee Regional Library System - ECPv6.15.20//NONSGML v1.0//EN
CALSCALE:GREGORIAN
METHOD:PUBLISH
X-WR-CALNAME:Ocmulgee Regional Library System
X-ORIGINAL-URL:https://orls.org
X-WR-CALDESC:Events for Ocmulgee Regional Library System
REFRESH-INTERVAL;VALUE=DURATION:PT1H
X-Robots-Tag:noindex
X-PUBLISHED-TTL:PT1H
BEGIN:VTIMEZONE
TZID:America/New_York
BEGIN:DAYLIGHT
TZOFFSETFROM:-0500
TZOFFSETTO:-0400
TZNAME:EDT
DTSTART:20250309T070000
END:DAYLIGHT
BEGIN:STANDARD
TZOFFSETFROM:-0400
TZOFFSETTO:-0500
TZNAME:EST
DTSTART:20251102T060000
END:STANDARD
BEGIN:DAYLIGHT
TZOFFSETFROM:-0500
TZOFFSETTO:-0400
TZNAME:EDT
DTSTART:20260308T070000
END:DAYLIGHT
BEGIN:STANDARD
TZOFFSETFROM:-0400
TZOFFSETTO:-0500
TZNAME:EST
DTSTART:20261101T060000
END:STANDARD
BEGIN:DAYLIGHT
TZOFFSETFROM:-0500
TZOFFSETTO:-0400
TZNAME:EDT
DTSTART:20270314T070000
END:DAYLIGHT
BEGIN:STANDARD
TZOFFSETFROM:-0400
TZOFFSETTO:-0500
TZNAME:EST
DTSTART:20271107T060000
END:STANDARD
END:VTIMEZONE
BEGIN:VEVENT
DTSTART;VALUE=DATE:20260420
DTEND;VALUE=DATE:20260425
DTSTAMP:20260423T102630
CREATED:20260330T174705Z
LAST-MODIFIED:20260330T174742Z
UID:4631-1776643200-1777075199@orls.org
SUMMARY:(PUL) National Library Week
DESCRIPTION:Celebrate with us!\nApril 20 Monday-Friday 10am-5:30pm \nOpen House on Monday with fun\, free library swag and finger foods!
URL:https://orls.org/event/pul-national-library-week/
LOCATION:M. E. Roden Library\, 151 Commerce St\, Hawkinsville\, GA\, 31036\, United States
CATEGORIES:M. E. Roden Library-Pulaski
END:VEVENT
BEGIN:VEVENT
DTSTART;TZID=America/New_York:20260423T153000
DTEND;TZID=America/New_York:20260423T180000
DTSTAMP:20260423T102630
CREATED:20260330T173634Z
LAST-MODIFIED:20260330T173634Z
UID:4589-1776958200-1776967200@orls.org
SUMMARY:(TEL) K-12 Tutoring
DESCRIPTION:
URL:https://orls.org/event/tel-k-12-tutoring-5/
LOCATION:Telfair County Public Library\, 101 W College St\, McRae-Helena\, GA\, 31055\, United States
CATEGORIES:Telfair County Public Library
END:VEVENT
BEGIN:VEVENT
DTSTART;TZID=America/New_York:20260423T160000
DTEND;TZID=America/New_York:20260423T180000
DTSTAMP:20260423T102630
CREATED:20260330T174258Z
LAST-MODIFIED:20260330T174258Z
UID:4617-1776960000-1776967200@orls.org
SUMMARY:(WIL) Storytime
DESCRIPTION:
URL:https://orls.org/event/wil-storytime-6/
LOCATION:Wilcox County Public Library\, 104 N Broad St\, Abbeville\, GA\, 31001\, United States
CATEGORIES:Wilcox County Public Library
END:VEVENT
BEGIN:VEVENT
DTSTART;TZID=America/New_York:20260423T180000
DTEND;TZID=America/New_York:20260423T200000
DTSTAMP:20260423T102630
CREATED:20260330T172815Z
LAST-MODIFIED:20260330T172815Z
UID:4575-1776967200-1776974400@orls.org
SUMMARY:(DOD) Plant Cutting Swap
DESCRIPTION:
URL:https://orls.org/event/dod-plant-cutting-swap/
LOCATION:Dodge County Murrell Memorial Library\, 531 2nd Ave\, Eastman\, GA\, 31023\, United States
CATEGORIES:Dodge County Murrell Memorial Library
END:VEVENT
END:VCALENDAR