BEGIN:VCALENDAR
VERSION:2.0
PRODID:-//Ocmulgee Regional Library System - ECPv6.15.20//NONSGML v1.0//EN
CALSCALE:GREGORIAN
METHOD:PUBLISH
X-ORIGINAL-URL:https://orls.org
X-WR-CALDESC:Events for Ocmulgee Regional Library System
REFRESH-INTERVAL;VALUE=DURATION:PT1H
X-Robots-Tag:noindex
X-PUBLISHED-TTL:PT1H
BEGIN:VTIMEZONE
TZID:America/New_York
BEGIN:DAYLIGHT
TZOFFSETFROM:-0500
TZOFFSETTO:-0400
TZNAME:EDT
DTSTART:20250309T070000
END:DAYLIGHT
BEGIN:STANDARD
TZOFFSETFROM:-0400
TZOFFSETTO:-0500
TZNAME:EST
DTSTART:20251102T060000
END:STANDARD
BEGIN:DAYLIGHT
TZOFFSETFROM:-0500
TZOFFSETTO:-0400
TZNAME:EDT
DTSTART:20260308T070000
END:DAYLIGHT
BEGIN:STANDARD
TZOFFSETFROM:-0400
TZOFFSETTO:-0500
TZNAME:EST
DTSTART:20261101T060000
END:STANDARD
BEGIN:DAYLIGHT
TZOFFSETFROM:-0500
TZOFFSETTO:-0400
TZNAME:EDT
DTSTART:20270314T070000
END:DAYLIGHT
BEGIN:STANDARD
TZOFFSETFROM:-0400
TZOFFSETTO:-0500
TZNAME:EST
DTSTART:20271107T060000
END:STANDARD
END:VTIMEZONE
BEGIN:VEVENT
DTSTART;VALUE=DATE:20260218
DTEND;VALUE=DATE:20260219
DTSTAMP:20260419T110010
CREATED:20260130T182556Z
LAST-MODIFIED:20260130T182556Z
UID:4215-1771372800-1771459199@orls.org
SUMMARY:(PUL) Harlem Renaissance Exhibit: Drop in All Day
DESCRIPTION:
URL:https://orls.org/event/pul-harlem-renaissance-exhibit-drop-in-all-day/
LOCATION:M. E. Roden Library\, 151 Commerce St\, Hawkinsville\, GA\, 31036\, United States
CATEGORIES:M. E. Roden Library-Pulaski
END:VEVENT
BEGIN:VEVENT
DTSTART;TZID=America/New_York:20260218T100000
DTEND;TZID=America/New_York:20260218T120000
DTSTAMP:20260419T110010
CREATED:20260130T180245Z
LAST-MODIFIED:20260130T180318Z
UID:4168-1771408800-1771416000@orls.org
SUMMARY:(BLE) Storytime
DESCRIPTION:
URL:https://orls.org/event/storytime-8/
LOCATION:Tessie W. Norris Cochran-Bleckley County Library\, 103 SE 3rd St\, Cochran\, GA\, 31014\, United States
CATEGORIES:Tessie W. Norris Cochran-Bleckley County Library
END:VEVENT
BEGIN:VEVENT
DTSTART;TZID=America/New_York:20260218T103000
DTEND;TZID=America/New_York:20260218T123000
DTSTAMP:20260419T110010
CREATED:20260130T193045Z
LAST-MODIFIED:20260130T193045Z
UID:4269-1771410600-1771417800@orls.org
SUMMARY:(DOD) Tiny Tales Storytime
DESCRIPTION:
URL:https://orls.org/event/dod-tiny-tales-storytime-7/
LOCATION:Dodge County Murrell Memorial Library\, 531 2nd Ave\, Eastman\, GA\, 31023\, United States
CATEGORIES:Dodge County Murrell Memorial Library
END:VEVENT
BEGIN:VEVENT
DTSTART;TZID=America/New_York:20260218T110000
DTEND;TZID=America/New_York:20260218T130000
DTSTAMP:20260419T110010
CREATED:20260130T183105Z
LAST-MODIFIED:20260130T183105Z
UID:4229-1771412400-1771419600@orls.org
SUMMARY:(TEL) Homeschool Hangout
DESCRIPTION:
URL:https://orls.org/event/tel-homeschool-hangout-2/
LOCATION:Telfair County Public Library\, 101 W College St\, McRae-Helena\, GA\, 31055\, United States
CATEGORIES:Telfair County Public Library
END:VEVENT
BEGIN:VEVENT
DTSTART;TZID=America/New_York:20260218T160000
DTEND;TZID=America/New_York:20260218T180000
DTSTAMP:20260419T110010
CREATED:20260130T181621Z
LAST-MODIFIED:20260130T181621Z
UID:4189-1771430400-1771437600@orls.org
SUMMARY:(DOD) Teen Takeover
DESCRIPTION:
URL:https://orls.org/event/dod-teen-takeover-2/
LOCATION:Dodge County Murrell Memorial Library\, 531 2nd Ave\, Eastman\, GA\, 31023\, United States
CATEGORIES:Dodge County Murrell Memorial Library
END:VEVENT
END:VCALENDAR