BEGIN:VCALENDAR
VERSION:2.0
PRODID:-//Ocmulgee Regional Library System - ECPv6.15.20//NONSGML v1.0//EN
CALSCALE:GREGORIAN
METHOD:PUBLISH
X-WR-CALNAME:Ocmulgee Regional Library System
X-ORIGINAL-URL:https://orls.org
X-WR-CALDESC:Events for Ocmulgee Regional Library System
REFRESH-INTERVAL;VALUE=DURATION:PT1H
X-Robots-Tag:noindex
X-PUBLISHED-TTL:PT1H
BEGIN:VTIMEZONE
TZID:America/New_York
BEGIN:DAYLIGHT
TZOFFSETFROM:-0500
TZOFFSETTO:-0400
TZNAME:EDT
DTSTART:20250309T070000
END:DAYLIGHT
BEGIN:STANDARD
TZOFFSETFROM:-0400
TZOFFSETTO:-0500
TZNAME:EST
DTSTART:20251102T060000
END:STANDARD
BEGIN:DAYLIGHT
TZOFFSETFROM:-0500
TZOFFSETTO:-0400
TZNAME:EDT
DTSTART:20260308T070000
END:DAYLIGHT
BEGIN:STANDARD
TZOFFSETFROM:-0400
TZOFFSETTO:-0500
TZNAME:EST
DTSTART:20261101T060000
END:STANDARD
BEGIN:DAYLIGHT
TZOFFSETFROM:-0500
TZOFFSETTO:-0400
TZNAME:EDT
DTSTART:20270314T070000
END:DAYLIGHT
BEGIN:STANDARD
TZOFFSETFROM:-0400
TZOFFSETTO:-0500
TZNAME:EST
DTSTART:20271107T060000
END:STANDARD
END:VTIMEZONE
BEGIN:VEVENT
DTSTART;TZID=America/New_York:20260113T100000
DTEND;TZID=America/New_York:20260113T120000
DTSTAMP:20260421T124111
CREATED:20260102T003400Z
LAST-MODIFIED:20260102T003400Z
UID:3998-1768298400-1768305600@orls.org
SUMMARY:(PUL) Computer Classes: Signup Required
DESCRIPTION:
URL:https://orls.org/event/pul-computer-classes-signup-required-2/
LOCATION:M. E. Roden Library\, 151 Commerce St\, Hawkinsville\, GA\, 31036\, United States
CATEGORIES:M. E. Roden Library-Pulaski
END:VEVENT
BEGIN:VEVENT
DTSTART;TZID=America/New_York:20260113T130000
DTEND;TZID=America/New_York:20260113T150000
DTSTAMP:20260421T124111
CREATED:20260102T004159Z
LAST-MODIFIED:20260102T004159Z
UID:4026-1768309200-1768316400@orls.org
SUMMARY:(WIL) Homeschool Hangout
DESCRIPTION:
URL:https://orls.org/event/wil-homeschool-hangout/
LOCATION:Wilcox County Public Library\, 104 N Broad St\, Abbeville\, GA\, 31001\, United States
CATEGORIES:Wilcox County Public Library
END:VEVENT
BEGIN:VEVENT
DTSTART;TZID=America/New_York:20260113T170000
DTEND;TZID=America/New_York:20260113T190000
DTSTAMP:20260421T124111
CREATED:20260102T001940Z
LAST-MODIFIED:20260102T001940Z
UID:3965-1768323600-1768330800@orls.org
SUMMARY:(DOD) Cozy Loop Club: Knit and Crochet
DESCRIPTION:
URL:https://orls.org/event/dod-cozy-loop-club-knit-and-crochet-2/
LOCATION:Dodge County Murrell Memorial Library\, 531 2nd Ave\, Eastman\, GA\, 31023\, United States
CATEGORIES:Dodge County Murrell Memorial Library
END:VEVENT
END:VCALENDAR