BEGIN:VCALENDAR
VERSION:2.0
PRODID:-//Ocmulgee Regional Library System - ECPv6.15.20//NONSGML v1.0//EN
CALSCALE:GREGORIAN
METHOD:PUBLISH
X-WR-CALNAME:Ocmulgee Regional Library System
X-ORIGINAL-URL:https://orls.org
X-WR-CALDESC:Events for Ocmulgee Regional Library System
REFRESH-INTERVAL;VALUE=DURATION:PT1H
X-Robots-Tag:noindex
X-PUBLISHED-TTL:PT1H
BEGIN:VTIMEZONE
TZID:America/New_York
BEGIN:DAYLIGHT
TZOFFSETFROM:-0500
TZOFFSETTO:-0400
TZNAME:EDT
DTSTART:20240310T070000
END:DAYLIGHT
BEGIN:STANDARD
TZOFFSETFROM:-0400
TZOFFSETTO:-0500
TZNAME:EST
DTSTART:20241103T060000
END:STANDARD
BEGIN:DAYLIGHT
TZOFFSETFROM:-0500
TZOFFSETTO:-0400
TZNAME:EDT
DTSTART:20250309T070000
END:DAYLIGHT
BEGIN:STANDARD
TZOFFSETFROM:-0400
TZOFFSETTO:-0500
TZNAME:EST
DTSTART:20251102T060000
END:STANDARD
BEGIN:DAYLIGHT
TZOFFSETFROM:-0500
TZOFFSETTO:-0400
TZNAME:EDT
DTSTART:20260308T070000
END:DAYLIGHT
BEGIN:STANDARD
TZOFFSETFROM:-0400
TZOFFSETTO:-0500
TZNAME:EST
DTSTART:20261101T060000
END:STANDARD
END:VTIMEZONE
BEGIN:VEVENT
DTSTART;TZID=America/New_York:20251216T100000
DTEND;TZID=America/New_York:20251216T110000
DTSTAMP:20260423T061651
CREATED:20251220T213543Z
LAST-MODIFIED:20260101T233830Z
UID:3666-1765879200-1765882800@orls.org
SUMMARY:(WHE) Gardening 101
DESCRIPTION:
URL:https://orls.org/event/gardening-101-2/
LOCATION:Wheeler County Library\, 61 W Main St\, Alamo\, GA\, 30411\, United States
CATEGORIES:Wheeler County Library
END:VEVENT
BEGIN:VEVENT
DTSTART;TZID=America/New_York:20251216T100000
DTEND;TZID=America/New_York:20251216T120000
DTSTAMP:20260423T061651
CREATED:20251220T220451Z
LAST-MODIFIED:20260101T233826Z
UID:3711-1765879200-1765886400@orls.org
SUMMARY:(DOD) Computer Classes
DESCRIPTION:
URL:https://orls.org/event/computer-classes-4/
LOCATION:Dodge County Murrell Memorial Library\, 531 2nd Ave\, Eastman\, GA\, 31023\, United States
CATEGORIES:Dodge County Murrell Memorial Library
END:VEVENT
BEGIN:VEVENT
DTSTART;TZID=America/New_York:20251216T110000
DTEND;TZID=America/New_York:20251216T130000
DTSTAMP:20260423T061651
CREATED:20251220T215115Z
LAST-MODIFIED:20260101T234552Z
UID:3675-1765882800-1765890000@orls.org
SUMMARY:(PUL) Homeschool Hangout
DESCRIPTION:
URL:https://orls.org/event/homeschool-hangout/
LOCATION:M. E. Roden Library\, 151 Commerce St\, Hawkinsville\, GA\, 31036\, United States
CATEGORIES:M. E. Roden Library-Pulaski
END:VEVENT
BEGIN:VEVENT
DTSTART;TZID=America/New_York:20251216T160000
DTEND;TZID=America/New_York:20251216T180000
DTSTAMP:20260423T061651
CREATED:20251220T222157Z
LAST-MODIFIED:20260101T233813Z
UID:3766-1765900800-1765908000@orls.org
SUMMARY:(WIL) Teen Takeover
DESCRIPTION:
URL:https://orls.org/event/teen-takeover-2/
LOCATION:Wilcox County Public Library\, 104 N Broad St\, Abbeville\, GA\, 31001\, United States
CATEGORIES:Wilcox County Public Library
END:VEVENT
BEGIN:VEVENT
DTSTART;TZID=America/New_York:20251216T170000
DTEND;TZID=America/New_York:20251216T190000
DTSTAMP:20260423T061651
CREATED:20251220T220520Z
LAST-MODIFIED:20260101T233808Z
UID:3714-1765904400-1765911600@orls.org
SUMMARY:(DOD) Knit Night
DESCRIPTION:
URL:https://orls.org/event/knit-night-3/
LOCATION:Dodge County Murrell Memorial Library\, 531 2nd Ave\, Eastman\, GA\, 31023\, United States
CATEGORIES:Dodge County Murrell Memorial Library
END:VEVENT
END:VCALENDAR