BEGIN:VCALENDAR
VERSION:2.0
PRODID:-//Ocmulgee Regional Library System - ECPv6.15.20//NONSGML v1.0//EN
CALSCALE:GREGORIAN
METHOD:PUBLISH
X-WR-CALNAME:Ocmulgee Regional Library System
X-ORIGINAL-URL:https://orls.org
X-WR-CALDESC:Events for Ocmulgee Regional Library System
REFRESH-INTERVAL;VALUE=DURATION:PT1H
X-Robots-Tag:noindex
X-PUBLISHED-TTL:PT1H
BEGIN:VTIMEZONE
TZID:America/New_York
BEGIN:DAYLIGHT
TZOFFSETFROM:-0500
TZOFFSETTO:-0400
TZNAME:EDT
DTSTART:20240310T070000
END:DAYLIGHT
BEGIN:STANDARD
TZOFFSETFROM:-0400
TZOFFSETTO:-0500
TZNAME:EST
DTSTART:20241103T060000
END:STANDARD
BEGIN:DAYLIGHT
TZOFFSETFROM:-0500
TZOFFSETTO:-0400
TZNAME:EDT
DTSTART:20250309T070000
END:DAYLIGHT
BEGIN:STANDARD
TZOFFSETFROM:-0400
TZOFFSETTO:-0500
TZNAME:EST
DTSTART:20251102T060000
END:STANDARD
BEGIN:DAYLIGHT
TZOFFSETFROM:-0500
TZOFFSETTO:-0400
TZNAME:EDT
DTSTART:20260308T070000
END:DAYLIGHT
BEGIN:STANDARD
TZOFFSETFROM:-0400
TZOFFSETTO:-0500
TZNAME:EST
DTSTART:20261101T060000
END:STANDARD
END:VTIMEZONE
BEGIN:VEVENT
DTSTART;TZID=America/New_York:20251212T170000
DTEND;TZID=America/New_York:20251212T200000
DTSTAMP:20260419T105402
CREATED:20251220T221525Z
LAST-MODIFIED:20260101T233851Z
UID:3746-1765558800-1765569600@orls.org
SUMMARY:(TEL) Teen Takeover (Karaoke\, Games\, Snacks\, & More)
DESCRIPTION:
URL:https://orls.org/event/teen-takeover/
LOCATION:Telfair County Public Library\, 101 W College St\, McRae-Helena\, GA\, 31055\, United States
CATEGORIES:Telfair County Public Library
END:VEVENT
END:VCALENDAR